BEGIN:VCALENDAR
VERSION:2.0
PRODID:-//Plone.org//NONSGML plone.app.event//EN
X-WR-TIMEZONE:Brazil/East
BEGIN:VEVENT
SUMMARY:Sessão Solene: Concessão do Título de Cidadania Piauiense ao Ex
 celentíssimo Desembargador Federal Pedro Braga Filho.
DTSTART;TZID=Brazil/East;VALUE=DATE-TIME:20260313T110000
DTEND;TZID=Brazil/East;VALUE=DATE-TIME:20260313T120000
DTSTAMP;VALUE=DATE-TIME:20260420T110247Z
UID:2a775cbd9da9442d9fdfa656179f49a8@www.al.pi.leg.br
CREATED;VALUE=DATE-TIME:20260305T143354Z
DESCRIPTION:Sessão Solene: Concessão do Título de Cidadania Piauiense a
 o Excelentíssimo Desembargador Federal Pedro Braga Filho. Requerimento de
  autoria do Exmo. Senhor Presidente desta casa\, Deputado Severo Eulálio 
 e do Deputado Henrique Pires.
LAST-MODIFIED;VALUE=DATE-TIME:20260305T143359Z
LOCATION:Plenário  DEP WALDEMAR MACÊDO
URL:https://www.al.pi.leg.br/comunicacao/eventos/sessao-solene-concessao-d
 o-titulo-de-cidadania-piauiense-ao-excelentissimo-desembargador-federal-pe
 dro-braga-filho
END:VEVENT
BEGIN:VTIMEZONE
TZID:Brazil/East
X-LIC-LOCATION:Brazil/East
BEGIN:STANDARD
DTSTART;VALUE=DATE-TIME:20260221T230000
TZNAME:BRT
TZOFFSETFROM:-0200
TZOFFSETTO:-0300
END:STANDARD
END:VTIMEZONE
END:VCALENDAR
